Workbook

Sheet Summary
A2: PA | B2: =PA!E21 -> 15593960
A3: SILVERPEAK | B3: =Silverpeak!I7 -> 3958533
A4: ARUBA | B4: =Aruba!F11 -> 11658547
A5: CISCO | B5: =Cisco!I66 -> 40329298
A6: INFOBLOX | B6: =Infoblox!F7 -> 1280300
A7: INSTALLATION | B7: 0
A8: TOTAL EXCL TAXES | B8: =SUM(B2:B7) -> 72820638
A13: Please include installation charges in quote as well
A14: Shipping Address | B14: Sigma-Aldrich Chemicals Pvt. Ltd.A: 07th Floor, Tower-2, E-City, Electronic City, 1st Phase.Sy No. 94/2, 95/2, Veerasandra Village, Bangalore-560100
A15: Legal Entity | B15: Sigma-Aldrich Chemicals Pvt. Ltd

Sheet PA
A1: SKU | B1: Description | C1: QTY. | D1: Unit Price | E1: TOTAL
A2: PAN-PA-5420-AC | B2: Palo Alto Networks PA-5420 with redundant AC power supplies | C2: 2 | D2: 5748421 | E2: =D2*C2 -> 11496842
A3: PAN-PWR-CORD-UK | B3: Power cord for United Kingdom with IEC-60320 C13 and BS 1363 UK13 cord ends, 10A, 250V max, 6ft | C3: 2 | D3: 100 | E3: =D3*C3 -> 200
A4: PAN-SFP-LX | B4: SFP form factor, LX 1Gb optical transceiver, 10Km reach, SMF, duplex LC, IEEE 802.3ab 1000BASE-LX compliant | C4: 4 | D4: 44374 | E4: =D4*C4 -> 177496
A5: PAN-SFP-PLUS-LR | B5: SFP+ form factor, LR 10Gb optical transceiver, long reach 10Km, SMF, duplex LC, IEEE 802.3ae 10GBASE-LR compliant | C5: 8 | D5: 88548 | E5: =D5*C5 -> 708384
B7: Total
A10: PA-460 With 5 years of subscriptions & support
A11: SKU | B11: Description | C11: QTY.
A12: PAN-PA-460 | B12: Palo Alto Networks PA-460 | C12: 2 | D12: 287789 | E12: =D12*C12 -> 575578
A13: PAN-PWR-CORD-UK | B13: Power cord for United Kingdom with IEC-60320 C13 and BS 1363 UK13 cord ends, 10A, 250V max, 6ft | C13: 2 | D13: 100 | E13: =D13*C13 -> 200
A14: PAN-PA-460-AWF-5YR-HA2 | B14: PA-460, Advanced WildFire subscription, for one (1) device in an HA pair, 5 years (60 months), term. | C14: 2 | D14: 298879 | E14: =D14*C14 -> 597758
A15: PAN-PA-460-ADVURL-5YR-HA2 | B15: Advanced URL Filtering subscription, 5-year, PA-460 HA Pair | C15: 2 | D15: 298879 | E15: =D15*C15 -> 597758
A16: PAN-PA-460-ATP-5YR-HA2 | B16: PA-460, Advanced Threat Prevention subscription, for one (1) device in an HA pair, 5 years (60 months), term. | C16: 2 | D16: 298879 | E16: =D16*C16 -> 597758
A17: PAN-SVC-PREM-460-5YR | B17: PA-460, Premium support, 5 years (60 months), term. | C17: 2 | D17: 420993 | E17: =D17*C17 -> 841986
B21: Total | E21: =SUM(E2:E17) -> 15593960

Sheet Silverpeak
A2: Product Code | B2: Product Name | C2: Product Description | D2: HSN Code | E2: QTY | F2: Monthly Term | G2: Extended Term | H2: UNIT PRICE | I2: TOTAL
A3: 300444-001 | B3: EC-BW-2G-1MO | C3: HPE Aruba Networking EdgeConnect BW License, 2G Bandwidth, Per EC Instance, 1 Month ( Start Date: Jun-12-2025 End Date: Dec- 10- 2029) | D3: 997331 | E3: 2 | F3: 54 | G3: 108 | H3: 493348.5 | I3: =H3*E3 -> 986697 | K3: 1096330 | L3: =K3*97% -> 1063440.1 | M3: =L3/E3 -> 531720.05
A4: 500633-004 | B4: EC-M-H | C4: Unity EdgeConnect Medium Chassis, EC-M-H, 10x RJ45 10/100/1000, 4x 1/10G Fiber, SFP+ Pluggable, 2x AC PSU (1+1), 2x SSD | D4: 85176990 | E4: 2 | G4: 2 | H4: 906318 | I4: =H4*E4 -> 1812636 | K4: 2014041 | L4: =K4*97% -> 1953619.8 | M4: =L4/E4 -> 976809.89
A5: 300589-001 | B5: EC-M-H-MAINT-1MO | C5: Unity EdgeConnect Medium Chassis, EC-M-H, 10x RJ45 10/100/1000, 4x 1/10G Fiber, SFP+ Pluggable, 2x AC PSU (1+1), 2x SSD, 1 Month Maintenance | D5: 998313 | E5: 2 | F5: 60 | G5: 120 | H5: 422082 | I5: =H5*E5 -> 844164 | K5: 937961.6 | L5: =K5*97% -> 909822.75 | M5: =L5/E5 -> 454911.38
A6: 500405-001 | B6: EC-SFP-SR | C6: Unity EdgeConnect Pluggable Transceiver, SFP+ 1/10G Short Reach, Multi- Mode Fiber (MMF) | D6: 85176990 | E6: 8 | G6: 8 | H6: 39379.5 | I6: =H6*E6 -> 315036 | K6: 350043.8 | L6: =K6*97% -> 339542.49 | M6: =L6/E6 -> 42442.811
A7: Total | I7: =SUM(I3:I6) -> 3958533 | K7: =SUM(K3:K6) -> 4398376.4 | L7: =SUM(L3:L6) -> 4266425.1
K8: 100000
A9: INSTALLATION | K9: =K7-K8 -> 4298376.4

Sheet Aruba
A2: SL | B2: P/N Number | C2: Products Description SUPPLY | D2: Q'ty | E2: Unit price in INR | F2: Extended Price
C3: Controller
A4: 1 | B4: R1B37A | C4: HPE Aruba Networking 9012 (RW) TAA 12xGbE 6xPoE+ Branch 2K Clients - 32 APs Gateway | D4: 4 | E4: 183353 | F4: =E4*D4 -> 733412
A5: 2 | B5: HQ6M0E | C5: Aruba 1Y FC NBD Exch HW 9012 TAA SVC [for R1B37A] | D5: 4 | E5: 11512 | F5: =E5*D5 -> 46048
A6: 3 | B6: JW119A | C6: HPE Aruba Networking PC-AC-IN 250V/6A 1.8m C13 to IS1293 (IN) AC Power Cord | D6: 4 | E6: 703 | F6: =E6*D6 -> 2812
C7: AP
A8: 4 | B8: JZ346A | C8: HPE Aruba Networking AP-535 (RW) TAA Dual Radio 4x4 802.11ax Internal Antennas Unified Campus AP | D8: 135 | E8: 78252 | F8: =E8*D8 -> 10564020
A9: 5 | B9: R3J18A | C9: HPE Aruba Networking AP-MNT-D Campus AP mount bracket kit (individual) type D: solid surface | D9: 135 | E9: 2313 | F9: =E9*D9 -> 312255
C11: TOTAL | F11: =SUM(F3:F10) -> 11658547
C13: INSTALLATION | F13: FREE

Sheet Cisco
A4: Line Number | B4: Part Number | C4: Smart Account Mandatory | D4: Description | E4: Service Duration (Months) | F4: Estimated Lead Time (Days) | G4: Qty | H4: UNIT PRICE | I4: TOTAL
A5: 1.0 | B5: C9500-24Y4C-A | C5: - | D5: Catalyst 9500 24x1/10/25G and 4-port 40/100G, Advantage | E5: --- | F5: 17 | G5: 2 | H5: 716582.68 | I5: =H5*G5 -> 1433165.4
A6: 1.1 | B6: C9500-DNA-24Y4C-A | C6: Yes | D6: C9500 DNA Advantage, Term License | E6: --- | F6: 14 | G6: 2 | H6: 0 | I6: =H6*G6 -> 0
A7: 1.1.1 | B7: C9500-DNA-L-A-3Y | C7: - | D7: Cisco Catalyst 9500 DNA Advantage 3 Year License | E7: 36 | F7: N/A | G7: 2 | H7: 222536.54 | I7: =H7*G7 -> 445073.08
A8: 1.2 | B8: CAB-IND-10A | C8: - | D8: 10A Power cable for India | E8: --- | F8: 7 | G8: 4 | H8: 0 | I8: =H8*G8 -> 0
A9: 1.3 | B9: C9K-PWR-650WAC-R | C9: - | D9: 650W AC Config 4 Power Supply front to back cooling | E9: --- | F9: 31 | G9: 2 | H9: 0 | I9: =H9*G9 -> 0
A10: 1.4 | B10: C9K-PWR-650WAC-R/2 | C10: - | D10: 650W AC Config 4 Power Supply front to back cooling | E10: --- | F10: 31 | G10: 2 | H10: 70568.62 | I10: =H10*G10 -> 141137.24
A11: 1.5 | B11: C9K-F1-SSD-BLANK | C11: - | D11: Cisco pluggable SSD storage | E11: --- | F11: 14 | G11: 2 | H11: 0 | I11: =H11*G11 -> 0
A12: 1.6 | B12: C9K-T1-FANTRAY | C12: - | D12: Catalyst 9500 Type 4 front to back cooling Fan | E12: --- | F12: 31 | G12: 4 | H12: 0 | I12: =H12*G12 -> 0
A13: 1.7 | B13: C9500-NW-A | C13: Yes | D13: C9500 Network Stack, Advantage | E13: --- | F13: 14 | G13: 2 | H13: 0 | I13: =H13*G13 -> 0
A14: 1.8 | B14: S9500UK9-179 | C14: - | D14: Cisco Catalyst 9500 XE 17.9 UNIVERSAL | E14: --- | F14: 14 | G14: 2 | H14: 0 | I14: =H14*G14 -> 0
A15: 1.9 | B15: C9500-SSD-NONE | C15: - | D15: No SSD Card Selected | E15: --- | F15: 14 | G15: 2 | H15: 0 | I15: =H15*G15 -> 0
A16: 1.10 | B16: C9500-RFID-NONE | C16: - | D16: No RFID Selected | E16: --- | F16: 14 | G16: 2 | H16: 0 | I16: =H16*G16 -> 0
A17: 1.11 | B17: NETWORK-PNP-LIC | C17: Yes | D17: Network Plug-n-Play Connect for zero-touch device deployment | E17: --- | F17: 3 | G17: 2 | H17: 0 | I17: =H17*G17 -> 0
A18: 2.0 | B18: C9500-48Y4C-A | C18: - | D18: Catalyst 9500 48-port x 1/10/25G + 4-port 40/100G, Advantage | E18: --- | F18: 14 | G18: 4 | H18: 779551.4 | I18: =H18*G18 -> 3118205.6
A19: 2.1 | B19: C9500-DNA-48Y4C-A | C19: Yes | D19: C9500 DNA Advantage, Term License | E19: --- | F19: 14 | G19: 4 | H19: 0 | I19: =H19*G19 -> 0
A20: 2.1.1 | B20: C9500-DNA-A-3Y | C20: - | D20: Cisco Catalyst 9500 DNA Advantage 3 Year License | E20: 36 | F20: N/A | G20: 4 | H20: 379251.46 | I20: =H20*G20 -> 1517005.8
A21: 2.2 | B21: CAB-IND-10A | C21: - | D21: 10A Power cable for India | E21: --- | F21: 7 | G21: 8 | H21: 0 | I21: =H21*G21 -> 0
A22: 2.3 | B22: C9K-PWR-650WAC-R | C22: - | D22: 650W AC Config 4 Power Supply front to back cooling | E22: --- | F22: 31 | G22: 4 | H22: 0 | I22: =H22*G22 -> 0
A23: 2.4 | B23: C9K-PWR-650WAC-R/2 | C23: - | D23: 650W AC Config 4 Power Supply front to back cooling | E23: --- | F23: 31 | G23: 4 | H23: 70568.62 | I23: =H23*G23 -> 282274.48
A24: 2.5 | B24: C9K-F1-SSD-BLANK | C24: - | D24: Cisco pluggable SSD storage | E24: --- | F24: 14 | G24: 4 | H24: 0 | I24: =H24*G24 -> 0
A25: 2.6 | B25: C9K-T1-FANTRAY | C25: - | D25: Catalyst 9500 Type 4 front to back cooling Fan | E25: --- | F25: 31 | G25: 8 | H25: 0 | I25: =H25*G25 -> 0
A26: 2.7 | B26: C9500-NW-A | C26: Yes | D26: C9500 Network Stack, Advantage | E26: --- | F26: 14 | G26: 4 | H26: 0 | I26: =H26*G26 -> 0
A27: 2.8 | B27: S9500UK9-179 | C27: - | D27: Cisco Catalyst 9500 XE 17.9 UNIVERSAL | E27: --- | F27: 14 | G27: 4 | H27: 0 | I27: =H27*G27 -> 0
A28: 2.9 | B28: C9500-SSD-NONE | C28: - | D28: No SSD Card Selected | E28: --- | F28: 14 | G28: 4 | H28: 0 | I28: =H28*G28 -> 0
A29: 2.10 | B29: C9500-RFID-NONE | C29: - | D29: No RFID Selected | E29: --- | F29: 14 | G29: 4 | H29: 0 | I29: =H29*G29 -> 0
A30: 2.11 | B30: NETWORK-PNP-LIC | C30: Yes | D30: Network Plug-n-Play Connect for zero-touch device deployment | E30: --- | F30: 3 | G30: 4 | H30: 0 | I30: =H30*G30 -> 0
A31: 3.0 | B31: C9300-48P-E | C31: - | D31: Catalyst 9300 48-port PoE+, Network Essentials | E31: --- | F31: 14 | G31: 42 | H31: 357900.3 | I31: =H31*G31 -> 15031813
A32: 3.1 | B32: C9300-DNA-E-48 | C32: Yes | D32: C9300 DNA Essentials, 48-Port Term Licenses | E32: --- | F32: 14 | G32: 42 | H32: 0 | I32: =H32*G32 -> 0
A33: 3.1.1 | B33: C9300-DNA-E-48-3Y | C33: - | D33: C9300 DNA Essentials, 48-port - 3 Year Term License | E33: 36 | F33: N/A | G33: 42 | H33: 35104.3 | I33: =H33*G33 -> 1474380.6
A34: 3.2 | B34: C9300-NW-E-48 | C34: Yes | D34: C9300 Network Essentials, 48-port license | E34: --- | F34: 14 | G34: 42 | H34: 0 | I34: =H34*G34 -> 0
A35: 3.3 | B35: PWR-C1-715WAC-P | C35: - | D35: 715W AC 80+ platinum Config 1 Power Supply | E35: --- | F35: 14 | G35: 42 | H35: 0 | I35: =H35*G35 -> 0
A36: 3.4 | B36: C9300-SPS-NONE | C36: - | D36: No Secondary Power Supply Selected | E36: --- | F36: 14 | G36: 42 | H36: 0 | I36: =H36*G36 -> 0
A37: 3.5 | B37: CAB-TA-IN | C37: - | D37: India AC Type A Power Cable | E37: --- | F37: 14 | G37: 42 | H37: 0 | I37: =H37*G37 -> 0
A38: 3.6 | B38: C9300-SSD-NONE | C38: - | D38: No SSD Card Selected | E38: --- | F38: 14 | G38: 42 | H38: 0 | I38: =H38*G38 -> 0
A39: 3.7 | B39: STACK-T1-50CM | C39: - | D39: 50CM Type 1 Stacking Cable | E39: --- | F39: 14 | G39: 42 | H39: 3134.9 | I39: =H39*G39 -> 131665.8
A40: 3.8 | B40: CAB-SPWR-30CM | C40: - | D40: Catalyst Stack Power Cable 30 CM | E40: --- | F40: 14 | G40: 42 | H40: 2977.92 | I40: =H40*G40 -> 125072.64
A41: 3.9 | B41: C9K-ACC-RBFT | C41: - | D41: RUBBER FEET FOR TABLE TOP SETUP 9200 and 93xx | E41: --- | F41: 14 | G41: 42 | H41: 0 | I41: =H41*G41 -> 0
A42: 3.10 | B42: C9K-ACC-SCR-4 | C42: - | D42: 12-24 and 10-32 SCREWS FOR RACK INSTALLATION, QTY 4 | E42: --- | F42: 14 | G42: 42 | H42: 0 | I42: =H42*G42 -> 0
A43: 3.11 | B43: CAB-GUIDE-1RU | C43: - | D43: 1RU CABLE MANAGEMENT GUIDES 9200 and 9300 | E43: --- | F43: 14 | G43: 42 | H43: 0 | I43: =H43*G43 -> 0
...

Sheet Infoblox
A2: SN | B2: Item | C2: Description | D2: Quantity | E2: Unit Price | F2: Total
A3: 1 | B3: TE-906-HW-2AC | C3: Trinzic X6 906 (Hardware Only) | D3: 1 | E3: 430000 | F3: =E3*D3 -> 430000
A4: 2 | B4: 10-TE-906-HW2AC | C4: Trinzic X6 906 (Hardware Only)- IB-MNTHW Premium - 1-Jan-26 31-Dec-30 | D4: 1 | E4: 850000 | F4: =E4*D4 -> 850000
A5: 3 | B5: IB-POWERCORD-14 | C5: Power Cord - Group B, 14 Gauge | D5: 2 | E5: 150 | F5: =E5*D5 -> 300
C7: TOTAL | F7: =SUM(F3:F5) -> 1280300
B9: INSTALALTION | C9: INSTALALTION | F9: FREE
